BEGIN:VCALENDAR
VERSION:2.0
PRODID:-//FASTVet - ECPv6.15.18//NONSGML v1.0//EN
CALSCALE:GREGORIAN
METHOD:PUBLISH
X-WR-CALNAME:FASTVet
X-ORIGINAL-URL:https://fastvet.com
X-WR-CALDESC:Events for FASTVet
REFRESH-INTERVAL;VALUE=DURATION:PT1H
X-Robots-Tag:noindex
X-PUBLISHED-TTL:PT1H
BEGIN:VTIMEZONE
TZID:America/Chicago
BEGIN:DAYLIGHT
TZOFFSETFROM:-0600
TZOFFSETTO:-0500
TZNAME:CDT
DTSTART:20250309T080000
END:DAYLIGHT
BEGIN:STANDARD
TZOFFSETFROM:-0500
TZOFFSETTO:-0600
TZNAME:CST
DTSTART:20251102T070000
END:STANDARD
BEGIN:DAYLIGHT
TZOFFSETFROM:-0600
TZOFFSETTO:-0500
TZNAME:CDT
DTSTART:20260308T080000
END:DAYLIGHT
BEGIN:STANDARD
TZOFFSETFROM:-0500
TZOFFSETTO:-0600
TZNAME:CST
DTSTART:20261101T070000
END:STANDARD
BEGIN:DAYLIGHT
TZOFFSETFROM:-0600
TZOFFSETTO:-0500
TZNAME:CDT
DTSTART:20270314T080000
END:DAYLIGHT
BEGIN:STANDARD
TZOFFSETFROM:-0500
TZOFFSETTO:-0600
TZNAME:CST
DTSTART:20271107T070000
END:STANDARD
END:VTIMEZONE
BEGIN:VEVENT
DTSTART;TZID=America/Chicago:20260313T080000
DTEND;TZID=America/Chicago:20260313T180000
DTSTAMP:20260423T072257
CREATED:20260218T180427Z
LAST-MODIFIED:20260220T192223Z
UID:21181-1773388800-1773424800@fastvet.com
SUMMARY:Austin Global FAST Ultrasound Course 2026
DESCRIPTION:Courses are from 8:00 AM to 6 PM with practical\, every day case-based AFAST®\, TFAST®  and Vet BLUE®  applications in lecture followed by AFAST®\, TFAST®  and Vet BLUE®  afternoon hands-on ultrasound scanning.  These combined are called Global FAST® which is an extension of your physical exam. Global FAST® is everyday ultrasound on almost every patient!  This course is approved for 9 hours of CE by RACE.  
URL:https://fastvet.com/event/austin-global-fast-ultrasound-course-2026/
LOCATION:Austin Humane Society\, 124 W Anderson Ln\, Austin\, TX\, 78752
ATTACH;FMTTYPE=image/jpeg:https://fastvet.com/wp-content/uploads/2025/07/Vet_BLUE_clinic_scanning_banner-e1771625311973.jpg
END:VEVENT
BEGIN:VEVENT
DTSTART;TZID=America/Chicago:20260221T080000
DTEND;TZID=America/Chicago:20260221T120000
DTSTAMP:20260423T072257
CREATED:20260220T224416Z
LAST-MODIFIED:20260220T225255Z
UID:21237-1771660800-1771675200@fastvet.com
SUMMARY:Franklin TN Global FAST Ultrasound Course
DESCRIPTION:This course includes Online Lectures that you can complete at your own pace by Dr. Greg Lisciandro\, DVM\, Dipl. ABVP\, Dipl. ACVECC\, and a 4-hour Global FAST® In-Person Scanning Session with Dr. Jessica Larson\, DVM\, Dipl. ACVIM (SAIM).  Lectures and Hands-on ultrasound scanning  will cover practical\, every day case-based AFAST®\, TFAST®  and Vet BLUE®  applications in lecture followed by AFAST®\, TFAST®  and Vet BLUE®  lung ultrasound.  These combined are called Global FAST® which is an extension of your physical exam. Global FAST® is everyday ultrasound on almost every patient!  This course is approved for 11 hours of CE by RACE.  
URL:https://fastvet.com/event/franklin-tn-global-fast-ultrasound-course/
LOCATION:Williamson County Animal Center\, 1006 Grigsby Hayes Court\, Franklin\, TN\, 37064\, United States
ORGANIZER;CN="FASTVet.com":MAILTO:focusedvet@gmail.com
END:VEVENT
END:VCALENDAR